Workbook
Name __xlnm.Print_Area: #REF!
Name __xlnm.Print_Area_1: #REF!
Name __xlnm.Print_Area_2: #REF!
Name __xlnm.Print_Area_3: #REF!
Name __xlnm.Print_Titles: #REF!
Name __xlnm.Print_Titles_1: #REF!
Name __xlnm.Print_Titles_2: #REF!
Name __xlnm.Print_Titles_2: #REF!
Name _Toc107475065: DE!#REF!
Name _Toc107475065: FR!#REF!
Name _Toc107475065: IT!#REF!

Sheet DE
A1: Typ | B1: Kapitel | C1: Leistung | D1: Bezeichnung | E1: Interpretation | F1: Abrechnungseinheit | G1: Preis inkl. MWST. | H1: Preis exkl. MWST. | I1: Gültig von | J1: Gültig bis | K1: Kumulationsregeln V9.0 nicht kumulierbar mit
A2: Kapitel | B2: 10 | D2: Allgemeine Leistungen | I2: 46296 | J2: 401768
A3: Kapitel | B3: 10.000 | D3: Informationen zur Versorgung | E3: ALLGEMEINE BESTIMMUNGEN Das abgegebene Rollstuhl-Modell und das Pauschalzubehör sind in der Rollstuhlpauschale enthalten und müssen auf der Rechnung angegeben werden. Behinderungsbedingte Optionen können auf ärztliche Verordnung zusätzlich verrechnet werden. BEGRIFFE HANDROLLSTUHL (HRS) Unter den nachstehenden Kategorien werden Rollstühle verstanden, welche in ihrer Art einer zweckmässigen und gebrauchsfertigen Ausführung entsprechen. Zu einer solchen gehören: - Fester oder faltbarer Rahmen - Hinterräder und schwenkbare Vorderräder - Bremsen - Sitz- und Rückenbezüge - Beinstützen - Armauflagen/Seitenteile Die Kategorien Adaptiv-, Kinder, Spezial- und Elektrorollstühle können auch als Fahrgestell für die Aufnahme von Sitzversorgungen (Sitzorthetik gemäss Tarif SVOT) verwendet werden. Die grundsätzliche Funktionstauglichkeit und Sicherheit muss durch die CE-Kennzeichnung, die Konformitätserklärung und die Produktinformation in Deutsch, Französisch und Italienisch erbracht werden. (Medizinprodukte Verordnung MepV und Richtlinie 93/42/EWG) Es können nur die Positionen zusätzlich verrechnet werden, welche in der Liste der behinderungsbedingten Optionen aufgeführt sind. (Anhang zu "Ärztliche Verordnung zur Abgabe eines Rollstuhls") SITZSCHALENUNTERGESTELLE Unter Sitzschalenuntergestelle werden Rollstühle verstanden, welche in ihrer Art Spezialrollstühlen entsprechen, welche jedoch mit einer Sitzschalenversorgung verbunden sind. ELEKTROROLLSTUHL (ERS) Unter der nachstehenden Kategorie werden Elektrorollstühle verstanden, welche in ihrer Art einer zweckmässigen und gebrauchsfertigen Ausführung entsprechen. Zu einer solchen gehören: - 2 elektromotorisch angetriebene Räder - zwei Lenkräder - Beinstützen - Armauflagen - wartungsfreie Batterien und Ladegerät Die grundsätzliche Funktionstauglichkeit und Sicherheit muss durch die CE-Kennzeichnung, die Konformitätserklärung und die Produktinformation in Deutsch, Französisch, Italienisch erbracht werden. (Medizinprodukte Verordnung MepV und Richtlinie 93/42/EWG) Es können nur die Positionen zusätzlich verrechnet werden, welche in der Liste der behinderungsbedingten Optionen aufgeführt sind. (Anhang zum Formular «Ärztliche Verordnung zur Abgabe eines Rollstuhls») ELEKTROROLLSTUHL FÜR DEN INNENBEREICH (TARIF ZIFFER 90.411.000): Unter der der Position 90.411.000 können nur Elektrorollstühle abgegeben werden, welche nicht den Definitionskriterien der Elektrorollstühle des Kapitels 60 entsprechen. Dabei handelt es sich um einfache Elektrorollstühle für den hauptsächlichen Einsatz im Innenbereich oder den beschränkten Einsatz im Aussenbereich (z.B. faltbare Elektrorollstühle). ELEKTROROLLSTUHL FÜR UNWEGSAMES GELÄNDE (TARIF ZIFFER 90.421.000): Unter der Position 90.421.000 können nur Elektrorollstühle abgegeben werden, welche nicht den Definitionskriterien der Elektrorollstühle des Kapitels 60 entsprechen. Dabei handelt es sich um Elektrorollstühle für den Einsatz in unwegsamen Gelände. ELEKTROANTRIEBE Unter Elektroantriebe werden elektrische Antriebssysteme zu Handrollstühlen verstanden. | I3: 46296 | J3: 401768
A4: Leistung | B4: 10.000 | C4: 10.001.000 | D4: Neuversorgung | E4: Statistische Leistung | F4: CHF | G4: 0 | H4: 0 | I4: 46296 | J4: 401768 | K4: 80; 10.140; 10.002.000; 10.003.000; 10.004.000; 10.020.000; 10.021.000; 10.030.000; 10.031.000
A5: Leistung | B5: 10.000 | C5: 10.002.000 | D5: Folgeversorgung | E5: Statistische Leistung | F5: CHF | G5: 0 | H5: 0 | I5: 46296 | J5: 401768 | K5: 80; 10.140; 10.001.000; 10.003.000; 10.004.000; 10.020.000; 10.021.000; 10.030.000; 10.031.000
A6: Leistung | B6: 10.000 | C6: 10.003.000 | D6: Nachrüstung | E6: Statistische Leistung | F6: CHF | G6: 0 | H6: 0 | I6: 46296 | J6: 401768 | K6: 20; 30; 40; 50; 60; 70, 80.500; 80.550; 10.001.000; 10.002.000; 10.004.000; 10.020.000; 10.021.000; 10.031.000
A7: Leistung | B7: 10.000 | C7: 10.004.000 | D7: Nachrüstung nach Rahmenvereinbarung zur Abgabe von Rollstühlen von 2001 (gültig bis 31.12.2017) | E7: Statistische Leistung; Nur kumulierbar mit Kapitel 80 | F7: CHF | G7: 0 | H7: 0 | I7: 46296 | J7: 401768 | K7: 20; 30; 40; 50; 60; 70; 90; 10.001.000; 10.002.000; 10.003.000; 10.020.000; 10.021.000; 10.031.000; 10.141.000; 10.142.000; 10.145.000; 10.146.000
A8: Leistung | B8: 10.000 | C8: 10.005.000 | D8: Positionsveränderung | E8: Statistische Leistung | F8: CHF | G8: 0 | H8: 0 | I8: 46296 | J8: 401768
A9: Leistung | B9: 10.000 | C9: 10.006.000 | D9: Wachstum | E9: Statistische Leistung | F9: CHF | G9: 0 | H9: 0 | I9: 46296 | J9: 401768
A10: Leistung | B10: 10.000 | C10: 10.007.000 | D10: Postoperativ | E10: Statistische Leistung | F10: CHF | G10: 0 | H10: 0 | I10: 46296 | J10: 401768
A11: Leistung | B11: 10.000 | C11: 10.008.000 | D11: Progredienz | E11: Statistische Leistung | F11: CHF | G11: 0 | H11: 0 | I11: 46296 | J11: 401768
A12: Leistung | B12: 10.000 | C12: 10.008.010 | D12: Abnutzung | E12: Statistische Leistung | F12: CHF | G12: 0 | H12: 0 | I12: 46296 | J12: 401768
A13: Leistung | B13: 10.000 | C13: 10.009.000 | D13: Andere | E13: Statistische Leistung; Angabe des Versorgunggrundes | F13: CHF | G13: 0 | H13: 0 | I13: 46296 | J13: 401768
A14: Leistung | B14: 10.000 | C14: 10.020.000 | D14: Reparatur | E14: Statistische Leistung | F14: CHF | G14: 0 | H14: 0 | I14: 46296 | J14: 401768 | K14: 20; 30; 40; 50; 60; 70; 90; 10.001.000; 10.002.000; 10.003.000; 10.004.000; 10.030.000; 10.031.000; 10.143.000; 10.144.000; 10.145.000; 10.146.000
A15: Leistung | B15: 10.000 | C15: 10.021.000 | D15: Reparatur nach Rahmenvereinbarung zur Abgabe von Rollstühlen von 2001 (gültig bis 31.12.2017) | E15: Statistische Leistung | F15: CHF | G15: 0 | H15: 0 | I15: 46296 | J15: 401768
A16: Leistung | B16: 10.000 | C16: 10.030.000 | D16: Revision | E16: Statistische Leistung; Revision gemäss Herstellerangaben; Nur kumulierbar mit Kapitel 80 | F16: CHF | G16: 0 | H16: 0 | I16: 46296 | J16: 401768 | K16: 20; 30; 40; 50; 60; 70; 90; 10.001.000; 10.002.000; 10.003.000; 10.004.000; 10.141.000; 10.142.000; 10.143.000; 10.144.000
A17: Leistung | B17: 10.000 | C17: 10.031.000 | D17: Revision nach Rahmenvereinbarung zur Abgabe von Rollstühlen von 2001 (gültig bis 31.12.2017) | E17: Statistische Leistung | F17: CHF | G17: 0 | H17: 0 | I17: 46296 | J17: 401768
A18: Leistung | B18: 10.000 | C18: 10.032.000 | D18: Garantieleistung bei Hand- oder Elektrorollstuhl | E18: Statistische Leistung | F18: CHF | G18: 0 | H18: 0 | I18: 46296 | J18: 401768
A19: Kapitel | B19: 10.110 | D19: Wegspesen | E19: Die Entschädigung der Wegspesen richtet sich nach den Bemerkungen zum Tarif. Die Wegpauschalen beinhalten die Hin- und Rückreise. Werden auf derselben Fahrt mehrere Klienten versorgt, muss die Wegpauschale anteilsmässig verrechnet werden. | I19: 46296 | J19: 401768
A20: Leistung | B20: 10.110 | C20: 10.111.000 | D20: Wegpauschale I | E20: Radius: 1 - 5 km | F20: CHF | G20: 23.11 | H20: 21.375 | I20: 46296 | J20: 401768 | K20: Regel aufgehoben
A21: Leistung | B21: 10.110 | C21: 10.112.000 | D21: Wegpauschale II | E21: Radius: 6 - 20 km | F21: CHF | G21: 92.43 | H21: 85.5 | I21: 46296 | J21: 401768 | K21: Regel aufgehoben
A22: Leistung | B22: 10.110 | C22: 10.113.000 | D22: Wegpauschale III | E22: Radius: 21 - 60 km | F22: CHF | G22: 205.39 | H22: 190 | I22: 46296 | J22: 401768 | K22: Regel aufgehoben
A23: Leistung | B23: 10.110 | C23: 10.114.000 | D23: Wegpauschale IV | E23: Radius: 61 - 90 km | F23: CHF | G23: 308.09 | H23: 285 | I23: 46296 | J23: 401768 | K23: Regel aufgehoben
A24: Leistung | B24: 10.110 | C24: 10.115.000 | D24: Wegpauschale nach Aufwand | E24: Radius: mehr als 90km | F24: CHF | I24: 46296 | J24: 401768 | K24: Regel aufgehoben
A25: Kapitel | B25: 10.120 | D25: Beratungen und Berichte | I25: 46296 | J25: 401768
A26: Leistung | B26: 10.120 | C26: 10.121.000 | D26: Fachtechnische Beratung pro 15Min | E26: Wird von den Versicherern nach UVG/MVG/IVG nicht vergütet. | F26: CHF | G26: 35.94 | H26: 33.25 | I26: 46296 | J26: 401768 | K26: 20; 30; 40; 50; 60; 70
A27: Leistung | B27: 10.120 | C27: 10.122.000 | D27: Bericht pro 15 Min. | E27: Gilt nur für von den Versicherern verlangten Berichte. | F27: CHF | G27: 35.94 | H27: 33.25 | I27: 46296 | J27: 401768 | K27: 20; 30; 40; 50; 60; 70
A28: Kapitel | B28: 10.130 | D28: Mietweise Abgabe von Rollstühlen | E28: Ist ein dringender Bedarf gegeben, kann der versicherten Person bis zur definitiven Versorgung für maximal 90 Tage ein Rollstuhl als Interimslösung abgegeben und mit den entsprechenden Tarifpositionen gegenüber den eidg. Sozialversicherern abgerechnet werden. Im UV- und MV-Bereich entfällt diese Limitation bei einer befristeten Vermietung eines Rollstuhls im Rahmen einer medizinisch bedingten Übergangsphase (postoperative Entlastung, Ruhigstellung, etc.), sofern die versicherte Person nicht dauerhaft auf einen Rollstuhl angewiesen ist. Die Mietdauer richtet sich nach der medizinischen Verordnung durch den behandelnden Arzt. Überschreitet die Mietdauer 90 Tage, ist vorgängig eine begründete Mietfristverlängerung beim zuständigen Versicherer zu beantragen. Die Sicherstellung der fristgerechten Rückgabe des Mietrollstuhls obliegt dem Vermieter. | I28: 46296 | J28: 401768
A29: Leistung | B29: 10.130 | C29: 10.131.000 | D29: Grundgebühr (Reinigung, Einstellungen) | E29: Limitation: maximal 1x pro Mietdauer | F29: CHF | G29: 143.77 | H29: 133 | I29: 46296 | J29: 401768
A30: Leistung | B30: 10.130 | C30: 10.132.000 | D30: Mietweise Abgabe eines Handrollstuhls (Ersatz-/Interimsversorgung; pro Tag) | E30: Abrechenbar gemäss Bemerkungen zum Tarif. Limitation: maximal 90 Tage | F30: CHF | G30: 4.32 | H30: 4 | I30: 46296 | J30: 401768 | K30: 10.132.100, 10.133.000, 10.133.100
A31: Leistung | B31: 10.130 | C31: 10.132.100 | D31: Mietweise Abgabe eines Handrollstuhls im Rahmen einer medizinisch bedingten Übergangsphase (postoperative Entlastung, Ruhigstellung, etc.; pro Tag) | E31: Abrechenbar gemäss Bemerkungen zum Tarif; Verlängerung nur nach vorgängiger Absprache mit dem Kostenträger. Gilt nur für UV und MV. Limitation: maximal 90 Tage | F31: CHF | G31: 4.32 | H31: 4 | I31: 46296 | J31: 401768 | K31: 10.132.000; 10.133.000, 10.133.100
A32: Leistung | B32: 10.130 | C32: 10.133.000 | D32: Mietweise Abgabe eines Elektrorollstuhls (Ersatz-/Interimsversorgung; pro Tag) | E32: Abrechenbar gemäss Bemerkungen zum Tarif. Limitation: maximal 90 Tage | F32: CHF | G32: 10.81 | H32: 10 | I32: 46296 | J32: 401768 | K32: 10.132.000, 10.132.100, 10.133.100
A33: Leistung | B33: 10.130 | C33: 10.133.100 | D33: Mietweise Abgabe eines Elektrorollstuhls im Rahmen einer medizinisch bedingten Übergangsphase (postoperative Entlastung, Ruhigstellung, etc.; pro Tag) | E33: Abrechenbar gemäss Bemerkungen zum Tarif; Verlängerung nur nach vorgängiger Absprache mit dem Kostenträger. Gilt nur für UV und MV. Limitation: maximal 90 Tage | F33: CHF | G33: 10.81 | H33: 10 | I33: 46296 | J33: 401768 | K33: 10.132.000, 10.132.100, 10.133.000;
A34: Kapitel | B34: 10.140 | D34: Reparaturen/Nachrüstungen/Revisionen | E34: Alle Entsorgungs- und Recyclingaufwände, die sich aus Reparaturen, Nachrüstungen oder Revisionen ergeben sowie die Entsorgung von Teilen, Abfällen und/oder anderem Material, fallen in die Verantwortung des Leistungserbringers. Eine Weiterverrechnung dieser Kosten zulasten des Kostenträgers und/oder der versicherten Person ist nicht zulässig. | I34: 46296 | J34: 401768
A35: Leistung | B35: 10.140 | C35: 10.141.000 | D35: Arbeit Reparatur Handrollstuhl pro 15 Min. | F35: CHF | G35: 35.94 | H35: 33.25 | I35: 46296 | J35: 401768 | K35: 10.142.000; 10.144.000; 10.146.000; 10.146.100; 10.148.000; 10.148.010; 10.148.100
A36: Leistung | B36: 10.140 | C36: 10.142.000 | D36: Arbeit Reparatur Elektrorollstuhl pro 15 Min. | F36: CHF | G36: 35.94 | H36: 33.25 | I36: 46296 | J36: 401768 | K36: 10.141.000; 10.143.000; 10.145.000; 10.145.100; 10.147.000; 10.147.010; 10.147.100
A37: Leistung | B37: 10.140 | C37: 10.143.000 | D37: Arbeit Nachrüstung Handrollstuhl pro 15 Min. | F37: CHF | G37: 35.94 | H37: 33.25 | I37: 46296 | J37: 401768 | K37: 10.142.000; 10.144.000; 10.146.000; 10.146.100; 10.148.000; 10.148.010; 10.148.100
A38: Leistung | B38: 10.140 | C38: 10.144.000 | D38: Arbeit Nachrüstung Elektrorollstuhl pro 15 Min. | F38: CHF | G38: 35.94 | H38: 33.25 | I38: 46296 | J38: 401768 | K38: 10.141.000; 10.143.000; 10.145.000; 10.145.100; 10.147.000; 10.147.010; 10.147.100
A39: Leistung | B39: 10.140 | C39: 10.145.000 | D39: Arbeit Revision Handrollstuhl pro 15 Min. | F39: CHF | G39: 35.94 | H39: 33.25 | I39: 46296 | J39: 401768 | K39: 10.142.000; 10.144.000; 10.146.000; 10.146.100; 10.148.000; 10.148.010; 10.148.100
A40: Leistung | B40: 10.140 | C40: 10.145.100 | D40: Arbeit für Übernahme bestehender BO pro 15 Min. Handrollstuhl | F40: CHF | G40: 35.94 | H40: 33.25 | I40: 46296 | J40: 401768 | K40: 10.142.000; 10.144.000; 10.146.000; 10.146.100; 10.148.000; 10.148.010; 10.148.100
...

Sheet FR
A1: Type | B1: Chapitre | C1: Prestation | D1: Désignation | E1: Interprétation | F1: Unité de facturation | G1: Prix incl. TVA. | H1: Prix excl. TVA. | I1: Valide de | J1: Valide à | K1: Règles de cumul V9.0 non cumulables avec
A2: Kapitel | B2: 10 | D2: Prestations générales | I2: 46296 | J2: 401768
A3: Kapitel | B3: 10.000 | D3: Informations sur l'appareillage | E3: DISPOSITIONS GÉNÉRALES Le modèle du fauteuil roulant et les accessoires forfaitaires sont inclus dans le forfait pour fauteuils roulants et doivent être indiqués sur la facture. Les options selon handicap sont facturables en plus selon la prescription médicale. DÉFINITIONS FAUTEUIL ROULANT MANUEL (FRM) Dans les catégories sous-mentionnées sont compris les fauteuils roulants manuels, lesquels correspondent à une version adéquate et prête à l’emploi. Celles-ci comprennent : - Cadre fixe ou pliable - Roues arrière et roues avant pivotantes - Freins - Housses de siège et de dossier - Repose-jambes - Accoudoirs / protèges vêtements Les catégories adaptative, pédiatrique, spécial peuvent également être utilisées comme châssis pour des orthèses de positionnement (positionnements selon tarif ASTO). La fiabilité fonctionnelle et la sécurité de base doivent être assurées par le marquage CE, la déclaration de conformité et les informations sur le produit doivent être disponibles en allemand, français et italien. (Ordonnance sur les dispositifs médicaux ODim et directive 93/42 /CEE). Seuls les éléments énumérés dans la liste des options liées au handicap (OH) peuvent être facturés en supplément. (Annexe au formulaire "Prescription médicale pour la remise d'un fauteuil roulant"). CHÂSSIS POUR COQUE Les châssis pour coque sont des fauteuils roulants répondant aux caractéristiques de fauteuils roulants spéciaux, mais liés à une remise de coque de positionnement. FAUTEUIL ROULANT ÉLECTRIQUE (FRE) Dans cette catégorie sont compris les fauteuils roulants électriques, lesquels correspondent à une version adéquate et prête à l’emploi. Celle-ci comprend : - 2 roues motrices avec moteur électrique - 2 roues directrices - Repose-jambes - Accoudoirs - Batteries sans entretien et un chargeur La fiabilité fonctionnelle et la sécurité de base doivent être assurées par le marquage CE, la déclaration de conformité et les informations sur le produit qui doivent être disponibles en allemand, français et italien. (Ordonnance sur les dispositifs médicaux ODim et directive 93/42 /CEE) Seuls les éléments énumérés dans la liste des options liées au handicap (OH) peuvent être facturés en supplément. (Annexe au formulaire "Prescription médicale pour la remise d'un fauteuil roulant") FAUTEUIL ROULANT ÉLECTRIQUE POUR USAGE INTÉRIEUR (POSITION TARIFAIRE 90.411.000) Seuls les fauteuils roulants électriques qui ne répondent pas aux critères de définition des fauteuils roulants électriques du chapitre 60 peuvent être fournis au titre du code tarifaire 90.411.000. Il s'agit de simples fauteuils roulants électriques destinés principalement à un usage intérieur ou à un usage extérieur limité (par exemple, les fauteuils roulants électriques pliants). FAUTEUIL ROULANT ÉLECTRIQUE POUR TERRAIN ACCIDENTÉ (POSITION TARIFAIRE 90.421.000) Seuls les fauteuils roulants électriques qui ne répondent pas aux critères de définition des fauteuils roulants électriques du chapitre 60 peuvent être fournis au titre du code tarifaire 90.421.000. Il s'agit de fauteuils roulants électriques destinés à être utilisés sur des terrains accidentés. PROPULSION ÉLECTRIQUE Par propulsion électrique, on entend les systèmes d'entraînement électrique pour fauteuils roulants manuels. | I3: 46296 | J3: 401768
A4: Leistung | B4: 10.000 | C4: 10.001.000 | D4: Nouvel appareillage | E4: Prestation statistique | F4: CHF | G4: 0 | H4: 0 | I4: 46296 | J4: 401768 | K4: 80; 10.140; 10.002.000; 10.003.000; 10.004.000; 10.020.000; 10.021.000; 10.030.000; 10.031.000
A5: Leistung | B5: 10.000 | C5: 10.002.000 | D5: Appareillage suivant | E5: Prestation statistique | F5: CHF | G5: 0 | H5: 0 | I5: 46296 | J5: 401768 | K5: 80; 10.140; 10.001.000; 10.003.000; 10.004.000; 10.020.000; 10.021.000; 10.030.000; 10.031.000
A6: Leistung | B6: 10.000 | C6: 10.003.000 | D6: Rééquipement | E6: Prestation statistique | F6: CHF | G6: 0 | H6: 0 | I6: 46296 | J6: 401768 | K6: 20; 30; 40; 50; 60; 70, 80.500; 80.550; 10.001.000; 10.002.000; 10.004.000; 10.020.000; 10.021.000; 10.031.000
A7: Leistung | B7: 10.000 | C7: 10.004.000 | D7: Rééquipement selon convention cadre sur la remise et le remboursement des fauteuils roulants de 2001 (valable jusqu’au 31.12.2017) | E7: Prestation statistique ; Cumulable uniquement avec le chapitre 80 | F7: CHF | G7: 0 | H7: 0 | I7: 46296 | J7: 401768 | K7: 20; 30; 40; 50; 60; 70; 90; 10.001.000; 10.002.000; 10.003.000; 10.020.000; 10.021.000; 10.031.000; 10.141.000; 10.142.000; 10.145.000; 10.146.000
A8: Leistung | B8: 10.000 | C8: 10.005.000 | D8: Suite changement de position | E8: Prestation statistique | F8: CHF | G8: 0 | H8: 0 | I8: 46296 | J8: 401768
A9: Leistung | B9: 10.000 | C9: 10.006.000 | D9: Suite croissance | E9: Prestation statistique | F9: CHF | G9: 0 | H9: 0 | I9: 46296 | J9: 401768
A10: Leistung | B10: 10.000 | C10: 10.007.000 | D10: Postopératoire | E10: Prestation statistique | F10: CHF | G10: 0 | H10: 0 | I10: 46296 | J10: 401768
A11: Leistung | B11: 10.000 | C11: 10.008.000 | D11: Progression | E11: Prestation statistique | F11: CHF | G11: 0 | H11: 0 | I11: 46296 | J11: 401768
A12: Leistung | B12: 10.000 | C12: 10.008.010 | D12: Usure | E12: Prestation statistique | F12: CHF | G12: 0 | H12: 0 | I12: 46296 | J12: 401768
A13: Leistung | B13: 10.000 | C13: 10.009.000 | D13: Autres | E13: Prestation statistique; Spécification de la raison de l'appareillage | F13: CHF | G13: 0 | H13: 0 | I13: 46296 | J13: 401768
A14: Leistung | B14: 10.000 | C14: 10.020.000 | D14: Réparation | E14: Prestation statistique | F14: CHF | G14: 0 | H14: 0 | I14: 46296 | J14: 401768 | K14: 20; 30; 40; 50; 60; 70; 90; 10.001.000; 10.002.000; 10.003.000; 10.004.000; 10.030.000; 10.031.000; 10.143.000; 10.144.000; 10.145.000; 10.146.000
A15: Leistung | B15: 10.000 | C15: 10.021.000 | D15: Réparation selon convention cadre sur la remise et le remboursement des fauteuils roulants de 2001 (valable jusqu’au 31.12.2017) | E15: Prestation statistique | F15: CHF | G15: 0 | H15: 0 | I15: 46296 | J15: 401768
A16: Leistung | B16: 10.000 | C16: 10.030.000 | D16: Révision | E16: Révision selon les instructions du fabricant ; Prestation statistique ; Cumulable uniquement avec le chapitre 80 | F16: CHF | G16: 0 | H16: 0 | I16: 46296 | J16: 401768 | K16: 20; 30; 40; 50; 60; 70; 90; 10.001.000; 10.002.000; 10.003.000; 10.004.000; 10.141.000; 10.142.000; 10.143.000; 10.144.000
A17: Leistung | B17: 10.000 | C17: 10.031.000 | D17: Révision selon convention cadre sur la remise et le remboursement des fauteuils roulants de 2001 (valable jusqu’au 31.12.2017) | E17: Prestation statistique | F17: CHF | G17: 0 | H17: 0 | I17: 46296 | J17: 401768
A18: Leistung | B18: 10.000 | C18: 10.032.000 | D18: Prestation de garantie auprès des fauteuils roulants manuels ou fauteuils roulants électriques | E18: Prestation statistique | F18: CHF | G18: 0 | H18: 0 | I18: 46296 | J18: 401768
A19: Kapitel | B19: 10.110 | D19: Frais de déplacement | E19: La rémunération pour les frais de déplacement est basée sur les remarques concernant le tarif. Les frais de déplacement comprennent le voyage aller-retour. Si plusieurs clients sont fournis lors d'un même voyage, le montant forfaitaire doit être facturé au prorata. | I19: 46296 | J19: 401768
A20: Leistung | B20: 10.110 | C20: 10.111.000 | D20: Frais de déplacement, forfait I | E20: Rayon : 1 - 5 km | F20: CHF | G20: 23.11 | H20: 21.375 | I20: 46296 | J20: 401768 | K20: Regel aufgehoben
A21: Leistung | B21: 10.110 | C21: 10.112.000 | D21: Frais de déplacement, forfait II | E21: Rayon : 6 - 20 km | F21: CHF | G21: 92.43 | H21: 85.5 | I21: 46296 | J21: 401768 | K21: Regel aufgehoben
A22: Leistung | B22: 10.110 | C22: 10.113.000 | D22: Frais de déplacement, forfait III | E22: Rayon : 21 - 60 km | F22: CHF | G22: 205.39 | H22: 190 | I22: 46296 | J22: 401768 | K22: Regel aufgehoben
A23: Leistung | B23: 10.110 | C23: 10.114.000 | D23: Frais de déplacement, forfait IV | E23: Rayon : 61 - 90 km | F23: CHF | G23: 308.09 | H23: 285 | I23: 46296 | J23: 401768 | K23: Regel aufgehoben
A24: Leistung | B24: 10.110 | C24: 10.115.000 | D24: Frais de déplacement selon frais effectifs | E24: Rayon : plus de 90km | F24: CHF | I24: 46296 | J24: 401768 | K24: Regel aufgehoben
A25: Kapitel | B25: 10.120 | D25: Conseils techniques et rapports | I25: 46296 | J25: 401768
A26: Leistung | B26: 10.120 | C26: 10.121.000 | D26: Conseil technique par période de 15 min. | E26: N'est pas remboursée par les assureurs LAA/LAM/LAI. | F26: CHF | G26: 35.94 | H26: 33.25 | I26: 46296 | J26: 401768 | K26: 20; 30; 40; 50; 60; 70
A27: Leistung | B27: 10.120 | C27: 10.122.000 | D27: Rapport écrit par période de 15 min. | E27: Applicable uniquement aux rapports requis par les assureurs. | F27: CHF | G27: 35.94 | H27: 33.25 | I27: 46296 | J27: 401768 | K27: 20; 30; 40; 50; 60; 70
A28: Kapitel | B28: 10.130 | D28: Location des fauteuils roulants | E28: En cas de besoin urgent, la personne assurée peut obtenir, pour une durée maximale de 90 jours, un fauteuil roulant à titre de solution provisoire jusqu’à ce qu’il reçoive son appareillage définitif. La location du fauteuil roulant peut être facturé avec les positions tarifaires correspondantes aux assureurs sociaux fédéraux. Dans les secteurs AA et AM, cette limitation ne s'applique pas si un fauteuil roulant est loué pour une durée limitée pendant une phase transitoire médicalement nécessaire (soulagement post-opératoire, immobilisation, etc.), à condition que la personne assurée ne soit pas en permanence dépendant d'un fauteuil roulant. La durée de location est basée sur l'ordonnance médicale émise par le médecin traitant. Si la location dépasse les 90 jours, il faut soumettre à l'avance une demande justifiée de prolongation de la période de location auprès de l'assureur responsable. Il incombe au propriétaire de veiller à ce que le fauteuil roulant de location soit rendu en temps voulu. | I28: 46296 | J28: 401768
A29: Leistung | B29: 10.130 | C29: 10.131.000 | D29: Taxe de base (nettoyage, réglages) | E29: Limitation : maximum 1x par période de location | F29: CHF | G29: 143.77 | H29: 133 | I29: 46296 | J29: 401768
A30: Leistung | B30: 10.130 | C30: 10.132.000 | D30: Location d'un fauteuil roulant manuel (rechange / approvisionnement provisoire ; par jour) | E30: Facturable selon les remarques concernant le tarif. Limitation : maximum 90 jours | F30: CHF | G30: 4.32 | H30: 4 | I30: 46296 | J30: 401768 | K30: 10.132.100, 10.133.000, 10.133.100
A31: Leistung | B31: 10.130 | C31: 10.132.100 | D31: Location d’un fauteuil roulant manuel dans le cadre d’une période de transition médicale (soulagement post-opératoire, immobilisation, etc.; par jour) | E31: Facturable selon les remarques concernant le tarif ; prolongation uniquement après consultation préalable de l'assureur. Applicable uniquement aux secteurs AA et AM. Limitation : maximum 90 jours | F31: CHF | G31: 4.32 | H31: 4 | I31: 46296 | J31: 401768 | K31: 10.132.000; 10.133.000, 10.133.100
A32: Leistung | B32: 10.130 | C32: 10.133.000 | D32: Location d'un fauteuil roulant électrique (rechange / approvisionnement provisoire ; par jour) | E32: Facturable selon les remarques concernant le tarif. Limitation : maximum 90 jours | F32: CHF | G32: 10.81 | H32: 10 | I32: 46296 | J32: 401768 | K32: 10.132.000, 10.132.100, 10.133.100
A33: Leistung | B33: 10.130 | C33: 10.133.100 | D33: Location d’un fauteuil roulant électrique dans le cadre d’une période de transition médicale (soulagement post-opératoire, immobilisation, etc.; par jour) | E33: Facturable selon les remarques concernant le tarif ; prolongation uniquement après consultation préalable de l'assureur. Applicable uniquement aux secteurs AA et AM. Limitation : maximum 90 jours | F33: CHF | G33: 10.81 | H33: 10 | I33: 46296 | J33: 401768 | K33: 10.132.000, 10.132.100, 10.133.000;
A34: Kapitel | B34: 10.140 | D34: Réparations/Rééquipements/Révisions | E34: Tous les frais liés à l’élimination et au recyclage résultant de réparations, de modifications ou de révisions, ainsi que l’élimination de pièces, de déchets et/ou d’autres matériaux, sont à la charge du prestataire de services. Une refacturation de ces coûts à l'organisme payeur ou à la personne assurée n’est pas autorisée. | I34: 46296 | J34: 401768
A35: Leistung | B35: 10.140 | C35: 10.141.000 | D35: Temps de travail réparation fauteuil roulant manuel par période de 15 min. | F35: CHF | G35: 35.94 | H35: 33.25 | I35: 46296 | J35: 401768 | K35: 10.142.000; 10.144.000; 10.146.000; 10.146.100; 10.148.000; 10.148.010; 10.148.100
A36: Leistung | B36: 10.140 | C36: 10.142.000 | D36: Temps de travail réparation fauteuil roulant électrique par période de 15 min. | F36: CHF | G36: 35.94 | H36: 33.25 | I36: 46296 | J36: 401768 | K36: 10.141.000; 10.143.000; 10.145.000; 10.145.100; 10.147.000; 10.147.010; 10.147.100
A37: Leistung | B37: 10.140 | C37: 10.143.000 | D37: Temps de travail rééquipement fauteuil roulant manuel par période de 15 min. | F37: CHF | G37: 35.94 | H37: 33.25 | I37: 46296 | J37: 401768 | K37: 10.142.000; 10.144.000; 10.146.000; 10.146.100; 10.148.000; 10.148.010; 10.148.100
A38: Leistung | B38: 10.140 | C38: 10.144.000 | D38: Temps de travail rééquipement fauteuil roulant électrique par période de 15 min. | F38: CHF | G38: 35.94 | H38: 33.25 | I38: 46296 | J38: 401768 | K38: 10.141.000; 10.143.000; 10.145.000; 10.145.100; 10.147.000; 10.147.010; 10.147.100
A39: Leistung | B39: 10.140 | C39: 10.145.000 | D39: Temps de travail révision fauteuil roulant manuel par période de 15 min. | F39: CHF | G39: 35.94 | H39: 33.25 | I39: 46296 | J39: 401768 | K39: 10.142.000; 10.144.000; 10.146.000; 10.146.100; 10.148.000; 10.148.010; 10.148.100
A40: Leistung | B40: 10.140 | C40: 10.145.100 | D40: Temps de travail pour la reprise de OH existants, fauteuil roulant manuel, par période de 15 min. | F40: CHF | G40: 35.94 | H40: 33.25 | I40: 46296 | J40: 401768 | K40: 10.142.000; 10.144.000; 10.146.000; 10.146.100; 10.148.000; 10.148.010; 10.148.100
...

Sheet IT
A1: Tipo | B1: Capitolo | C1: Prestazione | D1: Denominazione | E1: Interpretazione | F1: Unità di fatturazione | G1: Prezzo IVA incl. | H1: Prezzo IVA escl. | I1: Valido dal | J1: Valido fino al | K1: Regole di cumulo V9.0 non cumulabili con
A2: Kapitel | B2: 10 | D2: Prestazioni generali | I2: 46296 | J2: 401768
A3: Kapitel | B3: 10.000 | D3: Informazioni di fornitura | E3: DISPOSIZIONI GENERALI Il modello della carrozzella consegnata e gli accessori forfettari utilizzati sono compresi nel forfait della carrozzella e devono essere indicati sulla fattura. Le opzioni relative al grado di disabilità sono fatturabili separatamente su prescrizione medica. TERMINI CARROZZELLA MANUALE Per le categorie seguenti si intendono le carrozzelle che per il loro genere corrispondono ad un mezzo ausiliare adeguato e pronto all'uso. Ne fa parte quanto segue: - telaio fisso o pieghevole - ruote posteriori e ruote anteriori girevoli - freni - telo sedile e coprischienale (fodera) - pedane - braccioli / protezioni laterali Le categorie ATTIVA, BAMBINI, SPECIALE possono anche essere usate come strutture per l'aggiunta di adattamenti della posizione seduta (ortesi per la seduta secondo tariffa ASTO). La funzionalità e la sicurezza devono essere approvate con la marcatura CE, la dichiarazione di conformità e la scheda sul prodotto in tedesco, francese e italiano (prodotti medici ODmed e direttiva 93/42/CEE). Possono essere fatturate solo le posizioni che figurano nell'elenco delle opzioni relative al grado di disabilità (allegato al modulo "Prescrizione medica per la fornitura di una carrozzella"). TELAIO PER SCOCCHE Il "telaio per scocche" (sedia a rotelle) corrisponde nel suo genere a sedie / carrozzelle speciali che però sono collegate alla fornitura di una scocca. CARROZZELLA ELETTRICA Per la categoria seguente si intendono carrozzelle elettriche che per il loro genere corrispondono ad un mezzo ausiliare adeguato e pronto all'uso. Ne fa parte quanto segue: - ruote motrici - ruote sterzanti - pedane - braccioli - batteria esente da manutenzione e caricabatteria La funzionalità e la sicurezza devono essere approvate con la marcatura CE, la dichiarazione di conformità e la scheda sul prodotto in tedesco, francese e italiano (prodotti medici ODmed e direttiva 93/42/CEE). Possono essere fatturate solo le voci tariffarie che figurano nell'elenco delle opzioni relative al grado di disabilità (allegato al modulo "Prescrizione medica per la fornitura di una carrozzella"). CARROZZELLA ELETTRICA PER USO ALL'INTERNO (VOCE TARIFFARIA 90.411.000) Alla voce tariffaria 90.411.000 possono essere fornite solo carrozzelle elettriche che non soddisfano i criteri di definizione per carrozzelle elettriche del capitolo 60. Si tratta di semplici carrozzelle elettriche per uso prevalentemente interno o per uso esterno limitato (ad es. carrozzine elettriche pieghevoli). CARROZZELLA ELETTRICA PER TERRENI ACCIDENTATI (VOCE TARIFFARIA 90.421.000) Alla voce tariffaria 90.421.000 possono essere fornite solo carrozzelle elettriche che non soddisfano i criteri di definizione per carrozzelle elettriche del capitolo 60. Si tratta di carrozzelle elettriche per uso su terreni accidentati. PROPULSORI ELETTRICI Per propulsori elettrici sono intesi i sistemi di azionamento elettrico / trazione elettrica adattabili per sedie a rotelle manuali. | I3: 46296 | J3: 401768
A4: Leistung | B4: 10.000 | C4: 10.001.000 | D4: Nuova fornitura | E4: Prestazione statistica | F4: CHF | G4: 0 | H4: 0 | I4: 46296 | J4: 401768 | K4: 80; 10.140; 10.002.000; 10.003.000; 10.004.000; 10.020.000; 10.021.000; 10.030.000; 10.031.000
A5: Leistung | B5: 10.000 | C5: 10.002.000 | D5: Fornitura successiva | E5: Prestazione statistica | F5: CHF | G5: 0 | H5: 0 | I5: 46296 | J5: 401768 | K5: 80; 10.140; 10.001.000; 10.003.000; 10.004.000; 10.020.000; 10.021.000; 10.030.000; 10.031.000
A6: Leistung | B6: 10.000 | C6: 10.003.000 | D6: Adattamento successivo | E6: Prestazione statistica | F6: CHF | G6: 0 | H6: 0 | I6: 46296 | J6: 401768 | K6: 20; 30; 40; 50; 60; 70, 80.500; 80.550; 10.001.000; 10.002.000; 10.004.000; 10.020.000; 10.021.000; 10.031.000
A7: Leistung | B7: 10.000 | C7: 10.004.000 | D7: Adattamento in un secondo tempo in conformità all'accordo quadro per la consegna di carrozzelle del 2001 (valido fino al 31.12.2017) | E7: Prestazione statistica; Cumulabile esclusivamente con il capitolo 80 | F7: CHF | G7: 0 | H7: 0 | I7: 46296 | J7: 401768 | K7: 20; 30; 40; 50; 60; 70; 90; 10.001.000; 10.002.000; 10.003.000; 10.020.000; 10.021.000; 10.031.000; 10.141.000; 10.142.000; 10.145.000; 10.146.000
A8: Leistung | B8: 10.000 | C8: 10.005.000 | D8: Cambiamento di posizione | E8: Prestazione statistica | F8: CHF | G8: 0 | H8: 0 | I8: 46296 | J8: 401768
A9: Leistung | B9: 10.000 | C9: 10.006.000 | D9: Crescita | E9: Prestazione statistica | F9: CHF | G9: 0 | H9: 0 | I9: 46296 | J9: 401768
A10: Leistung | B10: 10.000 | C10: 10.007.000 | D10: Postoperatoria/o | E10: Prestazione statistica | F10: CHF | G10: 0 | H10: 0 | I10: 46296 | J10: 401768
A11: Leistung | B11: 10.000 | C11: 10.008.000 | D11: Progressione | E11: Prestazione statistica | F11: CHF | G11: 0 | H11: 0 | I11: 46296 | J11: 401768
A12: Leistung | B12: 10.000 | C12: 10.008.010 | D12: Usura | E12: Prestazione statistica | F12: CHF | G12: 0 | H12: 0 | I12: 46296 | J12: 401768
A13: Leistung | B13: 10.000 | C13: 10.009.000 | D13: Altro | E13: Prestazione statistica; Indicazione del motivo di fornitura | F13: CHF | G13: 0 | H13: 0 | I13: 46296 | J13: 401768
A14: Leistung | B14: 10.000 | C14: 10.020.000 | D14: Riparazione | E14: Prestazione statistica | F14: CHF | G14: 0 | H14: 0 | I14: 46296 | J14: 401768 | K14: 20; 30; 40; 50; 60; 70; 90; 10.001.000; 10.002.000; 10.003.000; 10.004.000; 10.030.000; 10.031.000; 10.143.000; 10.144.000; 10.145.000; 10.146.000
A15: Leistung | B15: 10.000 | C15: 10.021.000 | D15: Riparazione in conformità all'accordo quadro per la consegna di carrozzelle del 2001 (valido fino al 31.12.2017) | E15: Prestazione statistica | F15: CHF | G15: 0 | H15: 0 | I15: 46296 | J15: 401768
A16: Leistung | B16: 10.000 | C16: 10.030.000 | D16: Revisione | E16: Prestazione statistica; Check up di controllo secondo le istruzioni del produttore; Cumulabile esclusivamente con il capitolo 80 | F16: CHF | G16: 0 | H16: 0 | I16: 46296 | J16: 401768 | K16: 20; 30; 40; 50; 60; 70; 90; 10.001.000; 10.002.000; 10.003.000; 10.004.000; 10.141.000; 10.142.000; 10.143.000; 10.144.000
A17: Leistung | B17: 10.000 | C17: 10.031.000 | D17: Revisione in conformità all'accordo quadro per la consegna di carrozzelle del 2001 (valido fino al 31.12.2017) | E17: Prestazione statistica | F17: CHF | G17: 0 | H17: 0 | I17: 46296 | J17: 401768
A18: Leistung | B18: 10.000 | C18: 10.032.000 | D18: Servizio di garanzia per carrozzelle manuali o elettriche | E18: Prestazione statistica | F18: CHF | G18: 0 | H18: 0 | I18: 46296 | J18: 401768
A19: Kapitel | B19: 10.110 | D19: Indennità di trasferta | E19: La remunerazione per le indennità di trasferta si basa alle osservazioni sul tariffario. L'indennità di trasferta comprende il viaggio di andata e ritorno. Se sul tragitto vengono visitati diversi clienti, l'indennità di trasferta deve essere ripartita equamente sui diversi clienti. | I19: 46296 | J19: 401768
A20: Leistung | B20: 10.110 | C20: 10.111.000 | D20: Indennità di trasferta I | E20: Raggio: 1 - 5 km | F20: CHF | G20: 23.11 | H20: 21.375 | I20: 46296 | J20: 401768 | K20: Regel aufgehoben
A21: Leistung | B21: 10.110 | C21: 10.112.000 | D21: Indennità di trasferta II | E21: Raggio: 6 - 20 km | F21: CHF | G21: 92.43 | H21: 85.5 | I21: 46296 | J21: 401768 | K21: Regel aufgehoben
A22: Leistung | B22: 10.110 | C22: 10.113.000 | D22: Indennità di trasferta III | E22: Raggio: 21 - 60 km | F22: CHF | G22: 205.39 | H22: 190 | I22: 46296 | J22: 401768 | K22: Regel aufgehoben
A23: Leistung | B23: 10.110 | C23: 10.114.000 | D23: Indennità di trasferta IV | E23: Raggio: 61 - 90 km | F23: CHF | G23: 308.09 | H23: 285 | I23: 46296 | J23: 401768 | K23: Regel aufgehoben
A24: Leistung | B24: 10.110 | C24: 10.115.000 | D24: Indennità di trasferta, costo effettivo | E24: Raggio: più di 90 km | F24: CHF | I24: 46296 | J24: 401768 | K24: Regel aufgehoben
A25: Kapitel | B25: 10.120 | D25: Consulenze e referti | I25: 46296 | J25: 401768
A26: Leistung | B26: 10.120 | C26: 10.121.000 | D26: Consulenza tecnica, ogni 15 min. | E26: Non rimborsato dagli assicuratori LAINF/LAM /LAI | F26: CHF | G26: 35.94 | H26: 33.25 | I26: 46296 | J26: 401768 | K26: 20; 30; 40; 50; 60; 70
A27: Leistung | B27: 10.120 | C27: 10.122.000 | D27: Referto, ogni 15 min. | E27: Vale esclusivamente per i referti chiesti dagli assicuratori. | F27: CHF | G27: 35.94 | H27: 33.25 | I27: 46296 | J27: 401768 | K27: 20; 30; 40; 50; 60; 70
A28: Kapitel | B28: 10.130 | D28: Noleggio di sedie a rotelle | E28: In caso di necessità urgente, può essere consegnata a noleggio una carrozzella, come soluzione temporanea per un massimo di 90 giorni fino alla consegna del mezzo definitivo. Il noleggio può essere fatturato alle istituzioni sociali federali, conformemente alle corrispondenti posizioni tariffarie. Nei settori AINF e AM, questa limitazione non si applica se il noleggio della carrozzella è previsto per un periodo limitato durante una fase medicalmente necessaria (cure post-operatorie, immobilizzazione, ecc.) e a condizione che la persona assicurata non sia permanentemente dipendente da una carrozzella. Il periodo di noleggio si basa sulla prescrizione medica rilasciata dal medico curante. Se il noleggio supera i 90 giorni, una richiesta giustificata di proroga del periodo di noleggio deve essere presentata in anticipo all'assicuratore responsabile. È responsabilità del proprietario di assicurarsi che la carrozzella a noleggio venga restituita in tempo previsto. | I28: 46296 | J28: 401768
A29: Leistung | B29: 10.130 | C29: 10.131.000 | D29: Tassa di base (pulizia, regolazioni) | E29: Limitazione: massimo 1x per periodo di noleggio | F29: CHF | G29: 143.77 | H29: 133 | I29: 46296 | J29: 401768
A30: Leistung | B30: 10.130 | C30: 10.132.000 | D30: Noleggio di una carrozzella manuale (sostituzione/fornitura intermedia; al giorno) | E30: Fatturabile secondo le osservazioni sul tariffario. Limitazione: massimo 90 giorni | F30: CHF | G30: 4.32 | H30: 4 | I30: 46296 | J30: 401768 | K30: 10.132.100, 10.133.000, 10.133.100
A31: Leistung | B31: 10.130 | C31: 10.132.100 | D31: Noleggio di una carrozzella manuale durante un periodo di transizione medica (recupero post-operatorio, immobilizzazione, ecc.; al giorno) | E31: Fatturabile secondo le osservazioni sul tariffario. Proroga solo previa consultazione con l'assicuratore. Applicabile solo nel settore dell'AINF e dell'AM. Limitazione: massimo 90 giorni | F31: CHF | G31: 4.32 | H31: 4 | I31: 46296 | J31: 401768 | K31: 10.132.000; 10.133.000, 10.133.100
A32: Leistung | B32: 10.130 | C32: 10.133.000 | D32: Noleggio di una carrozzella elettrica (sostituzione/fornitura intermedia; al giorno) | E32: Fatturabile secondo le osservazioni sul tariffario. Limitazione: massimo 90 giorni | F32: CHF | G32: 10.81 | H32: 10 | I32: 46296 | J32: 401768 | K32: 10.132.000, 10.132.100, 10.133.100
A33: Leistung | B33: 10.130 | C33: 10.133.100 | D33: Noleggio di una carrozzella elettrica durante un periodo di transizione medica (soccorso post-operatorio, immobilizzazione, ecc.; al giorno) | E33: Fatturabile secondo le osservazioni sul tariffario. Proroga solo previa consultazione con l'assicuratore. Applicabile solo nel settore dell'AINF e dell'AM. Limitazione: massimo 90 giorni | F33: CHF | G33: 10.81 | H33: 10 | I33: 46296 | J33: 401768 | K33: 10.132.000, 10.132.100, 10.133.000;
A34: Kapitel | B34: 10.140 | D34: Riparazioni/Adeguamenti in un secondo tempo/Revisioni | E34: Tutti i costi relativi allo smaltimento e al riciclaggio derivanti da riparazioni, modifiche o revisioni, nonché lo smaltimento di parti, rifiuti e/o altri materiali, sono a carico del fornitore delle prestazioni. Non è con-sentito addebitare tali costi all'ente assicuratore o alla persona assicurata. | I34: 46296 | J34: 401768
A35: Leistung | B35: 10.140 | C35: 10.141.000 | D35: Lavoro riparazione carrozzella manuale, ogni 15 min. | F35: CHF | G35: 35.94 | H35: 33.25 | I35: 46296 | J35: 401768 | K35: 10.142.000; 10.144.000; 10.146.000; 10.146.100; 10.148.000; 10.148.010; 10.148.100
A36: Leistung | B36: 10.140 | C36: 10.142.000 | D36: Lavoro riparazione carrozzella elettrica, ogni 15 min. | F36: CHF | G36: 35.94 | H36: 33.25 | I36: 46296 | J36: 401768 | K36: 10.141.000; 10.143.000; 10.145.000; 10.145.100; 10.147.000; 10.147.010; 10.147.100
A37: Leistung | B37: 10.140 | C37: 10.143.000 | D37: Lavoro di adeguamento in un secondo tempo carrozzella manuale, ogni 15 min. | F37: CHF | G37: 35.94 | H37: 33.25 | I37: 46296 | J37: 401768 | K37: 10.142.000; 10.144.000; 10.146.000; 10.146.100; 10.148.000; 10.148.010; 10.148.100
A38: Leistung | B38: 10.140 | C38: 10.144.000 | D38: Lavoro di adeguamento carrozzella elettrica, ogni 15 min. | F38: CHF | G38: 35.94 | H38: 33.25 | I38: 46296 | J38: 401768 | K38: 10.141.000; 10.143.000; 10.145.000; 10.145.100; 10.147.000; 10.147.010; 10.147.100
A39: Leistung | B39: 10.140 | C39: 10.145.000 | D39: Lavoro revisione carrozzella manuale, ogni 15 min. | F39: CHF | G39: 35.94 | H39: 33.25 | I39: 46296 | J39: 401768 | K39: 10.142.000; 10.144.000; 10.146.000; 10.146.100; 10.148.000; 10.148.010; 10.148.100
A40: Leistung | B40: 10.140 | C40: 10.145.100 | D40: Lavori per il recupero di OrGD esistenti, carrozzella manuale, ogni 15 min. | F40: CHF | G40: 35.94 | H40: 33.25 | I40: 46296 | J40: 401768 | K40: 10.142.000; 10.144.000; 10.146.000; 10.146.100; 10.148.000; 10.148.010; 10.148.100
...

Sheet Regel Qnt.
A1: Regeltyp | B1: Zusatz | C1: Master_Nr | D1: Typ_Master | E1: Bezeichnung Master | F1: Slave_Nr | G1: Typ_Slave | H1: Bezeichnung Slave | I1: Beschreibung_DE | J1: Beschreibung_FR | K1: Beschreibung_IT | L1: Gueltig_von | M1: Gueltig_bis | N1: Stand | O1: 46210 | P1: chapitre | Q1: capitolo
A2: Exklusion | C2: 20 | D2: Kapitel | E2: =VLOOKUP(C2,IT!B:C,3,FALSE) -> #REF! | F2: 30 | G2: Kapitel | H2: =VLOOKUP(F2,IT!B:C,3,FALSE) -> #REF! | I2: =CONCATENATE("Nicht kumulierbar mit ",G2,": ",F2) -> Nicht kumulierbar mit Kapitel: 30 | J2: =CONCATENATE("Non cumulable avec ",$P$1," : ",F2) -> Non cumulable avec chapitre : 30 | K2: =CONCATENATE("Non cumulabile col ",$Q$1,": ",F2) -> Non cumulabile col capitolo: 30 | L2: 45292 | M2: 401768
A3: Exklusion | C3: 20 | D3: Kapitel | E3: =VLOOKUP(C3,IT!B:C,3,FALSE) -> #REF! | F3: 40 | G3: Kapitel | H3: =VLOOKUP(F3,IT!B:C,3,FALSE) -> #REF! | I3: =CONCATENATE("Nicht kumulierbar mit ",G3,": ",F3) -> Nicht kumulierbar mit Kapitel: 40 | J3: =CONCATENATE("Non cumulable avec ",$P$1," : ",F3) -> Non cumulable avec chapitre : 40 | K3: =CONCATENATE("Non cumulabile col ",$Q$1,": ",F3) -> Non cumulabile col capitolo: 40 | L3: 45292 | M3: 401768
A4: Exklusion | C4: 20 | D4: Kapitel | E4: =VLOOKUP(C4,IT!B:C,3,FALSE) -> #REF! | F4: 50 | G4: Kapitel | H4: =VLOOKUP(F4,IT!B:C,3,FALSE) -> #REF! | I4: =CONCATENATE("Nicht kumulierbar mit ",G4,": ",F4) -> Nicht kumulierbar mit Kapitel: 50 | J4: =CONCATENATE("Non cumulable avec ",$P$1," : ",F4) -> Non cumulable avec chapitre : 50 | K4: =CONCATENATE("Non cumulabile col ",$Q$1,": ",F4) -> Non cumulabile col capitolo: 50 | L4: 45292 | M4: 401768
A5: Exklusion | C5: 20 | D5: Kapitel | E5: =VLOOKUP(C5,IT!B:C,3,FALSE) -> #REF! | F5: 60 | G5: Kapitel | H5: =VLOOKUP(F5,IT!B:C,3,FALSE) -> #REF! | I5: =CONCATENATE("Nicht kumulierbar mit ",G5,": ",F5) -> Nicht kumulierbar mit Kapitel: 60 | J5: =CONCATENATE("Non cumulable avec ",$P$1," : ",F5) -> Non cumulable avec chapitre : 60 | K5: =CONCATENATE("Non cumulabile col ",$Q$1,": ",F5) -> Non cumulabile col capitolo: 60 | L5: 45292 | M5: 401768
A6: Exklusion | C6: 20 | D6: Kapitel | E6: =VLOOKUP(C6,IT!B:C,3,FALSE) -> #REF! | F6: 80 | G6: Kapitel | H6: =VLOOKUP(F6,IT!B:C,3,FALSE) -> #REF! | I6: =CONCATENATE("Nicht kumulierbar mit ",G6,": ",F6) -> Nicht kumulierbar mit Kapitel: 80 | J6: =CONCATENATE("Non cumulable avec ",$P$1," : ",F6) -> Non cumulable avec chapitre : 80 | K6: =CONCATENATE("Non cumulabile col ",$Q$1,": ",F6) -> Non cumulabile col capitolo: 80 | L6: 45292 | M6: 401768
A7: Exklusion | C7: 20 | D7: Kapitel | E7: =VLOOKUP(C7,IT!B:C,3,FALSE) -> #REF! | F7: 70.400 | G7: Kapitel | H7: =VLOOKUP(F7,IT!B:C,3,FALSE) -> #REF! | I7: =CONCATENATE("Nicht kumulierbar mit ",G7,": ",F7) -> Nicht kumulierbar mit Kapitel: 70.400 | J7: =CONCATENATE("Non cumulable avec ",$P$1," : ",F7) -> Non cumulable avec chapitre : 70.400 | K7: =CONCATENATE("Non cumulabile col ",$Q$1,": ",F7) -> Non cumulabile col capitolo: 70.400 | L7: 45292 | M7: 401768
A8: Exklusion | C8: 20 | D8: Kapitel | E8: =VLOOKUP(C8,IT!B:C,3,FALSE) -> #REF! | F8: 90.400 | G8: Kapitel | H8: =VLOOKUP(F8,IT!B:C,3,FALSE) -> #REF! | I8: =CONCATENATE("Nicht kumulierbar mit ",G8,": ",F8) -> Nicht kumulierbar mit Kapitel: 90.400 | J8: =CONCATENATE("Non cumulable avec ",$P$1," : ",F8) -> Non cumulable avec chapitre : 90.400 | K8: =CONCATENATE("Non cumulabile col ",$Q$1,": ",F8) -> Non cumulabile col capitolo: 90.400 | L8: 45292 | M8: 401768
A9: Exklusion | C9: 30 | D9: Kapitel | E9: =VLOOKUP(C9,IT!B:C,3,FALSE) -> #REF! | F9: 20 | G9: Kapitel | H9: =VLOOKUP(F9,IT!B:C,3,FALSE) -> #REF! | I9: =CONCATENATE("Nicht kumulierbar mit ",G9,": ",F9) -> Nicht kumulierbar mit Kapitel: 20 | J9: =CONCATENATE("Non cumulable avec ",$P$1," : ",F9) -> Non cumulable avec chapitre : 20 | K9: =CONCATENATE("Non cumulabile col ",$Q$1,": ",F9) -> Non cumulabile col capitolo: 20 | L9: 45292 | M9: 401768
A10: Exklusion | C10: 30 | D10: Kapitel | E10: =VLOOKUP(C10,IT!B:C,3,FALSE) -> #REF! | F10: 40 | G10: Kapitel | H10: =VLOOKUP(F10,IT!B:C,3,FALSE) -> #REF! | I10: =CONCATENATE("Nicht kumulierbar mit ",G10,": ",F10) -> Nicht kumulierbar mit Kapitel: 40 | J10: =CONCATENATE("Non cumulable avec ",$P$1," : ",F10) -> Non cumulable avec chapitre : 40 | K10: =CONCATENATE("Non cumulabile col ",$Q$1,": ",F10) -> Non cumulabile col capitolo: 40 | L10: 45292 | M10: 401768
A11: Exklusion | C11: 30 | D11: Kapitel | E11: =VLOOKUP(C11,IT!B:C,3,FALSE) -> #REF! | F11: 50 | G11: Kapitel | H11: =VLOOKUP(F11,IT!B:C,3,FALSE) -> #REF! | I11: =CONCATENATE("Nicht kumulierbar mit ",G11,": ",F11) -> Nicht kumulierbar mit Kapitel: 50 | J11: =CONCATENATE("Non cumulable avec ",$P$1," : ",F11) -> Non cumulable avec chapitre : 50 | K11: =CONCATENATE("Non cumulabile col ",$Q$1,": ",F11) -> Non cumulabile col capitolo: 50 | L11: 45292 | M11: 401768
A12: Exklusion | C12: 30 | D12: Kapitel | E12: =VLOOKUP(C12,IT!B:C,3,FALSE) -> #REF! | F12: 60 | G12: Kapitel | H12: =VLOOKUP(F12,IT!B:C,3,FALSE) -> #REF! | I12: =CONCATENATE("Nicht kumulierbar mit ",G12,": ",F12) -> Nicht kumulierbar mit Kapitel: 60 | J12: =CONCATENATE("Non cumulable avec ",$P$1," : ",F12) -> Non cumulable avec chapitre : 60 | K12: =CONCATENATE("Non cumulabile col ",$Q$1,": ",F12) -> Non cumulabile col capitolo: 60 | L12: 45292 | M12: 401768
A13: Exklusion | C13: 30 | D13: Kapitel | E13: =VLOOKUP(C13,IT!B:C,3,FALSE) -> #REF! | F13: 80 | G13: Kapitel | H13: =VLOOKUP(F13,IT!B:C,3,FALSE) -> #REF! | I13: =CONCATENATE("Nicht kumulierbar mit ",G13,": ",F13) -> Nicht kumulierbar mit Kapitel: 80 | J13: =CONCATENATE("Non cumulable avec ",$P$1," : ",F13) -> Non cumulable avec chapitre : 80 | K13: =CONCATENATE("Non cumulabile col ",$Q$1,": ",F13) -> Non cumulabile col capitolo: 80 | L13: 45292 | M13: 401768
... A37: Exklusion | C37: 70 | D37: Kapitel | E37: =VLOOKUP(C37,IT!B:C,3,FALSE) -> #REF! | F37: 90 | G37: Kapitel | H37: =VLOOKUP(F37,IT!B:C,3,FALSE) -> #REF! | I37: =CONCATENATE("Nicht kumulierbar mit ",G37,": ",F37) -> Nicht kumulierbar mit Kapitel: 90 | J37: =CONCATENATE("Non cumulable avec ",$P$1," : ",F37) -> Non cumulable avec chapitre : 90 | K37: =CONCATENATE("Non cumulabile col ",$Q$1,": ",F37) -> Non cumulabile col capitolo: 90 | L37: 45292 | M37: 401768
A38: Exklusion | C38: 10.001.000 | D38: Leistung | E38: =VLOOKUP(C38,IT!C:C,2,FALSE) -> #REF! | F38: 10.140 | G38: Kapitel | H38: =VLOOKUP(F38,IT!B:C,3,FALSE) -> #REF! | I38: =CONCATENATE("Nicht kumulierbar mit ",G38,": ",F38) -> Nicht kumulierbar mit Kapitel: 10.140 | J38: =CONCATENATE("Non cumulable avec ",$P$1," : ",F38) -> Non cumulable avec chapitre : 10.140 | K38: =CONCATENATE("Non cumulabile col ",$Q$1,": ",F38) -> Non cumulabile col capitolo: 10.140 | L38: 45566 | M38: 401768
A39: Exklusion | C39: 10.001.000 | D39: Leistung | E39: =VLOOKUP(C39,IT!C:C,2,FALSE) -> #REF! | F39: 80 | G39: Kapitel | H39: =VLOOKUP(F39,IT!B:C,3,FALSE) -> #REF! | I39: =CONCATENATE("Nicht kumulierbar mit ",G39,": ",F39) -> Nicht kumulierbar mit Kapitel: 80 | J39: =CONCATENATE("Non cumulable avec ",$P$1," : ",F39) -> Non cumulable avec chapitre : 80 | K39: =CONCATENATE("Non cumulabile col ",$Q$1,": ",F39) -> Non cumulabile col capitolo: 80 | L39: 45292 | M39: 401768
A40: Exklusion | C40: 10.001.000 | D40: Leistung | E40: =VLOOKUP(C40,IT!C:C,2,FALSE) -> #REF! | F40: 10.002.000 | G40: Leistung | H40: =VLOOKUP(F40,IT!C:C,2,FALSE) -> #REF! | I40: =CONCATENATE("Nicht kumulierbar mit ",G40,": ",F40) -> Nicht kumulierbar mit Leistung: 10.002.000 | J40: =CONCATENATE("Non cumulable avec ",$P$1," : ",F40) -> Non cumulable avec chapitre : 10.002.000 | K40: =CONCATENATE("Non cumulabile col ",$Q$1,": ",F40) -> Non cumulabile col capitolo: 10.002.000 | L40: 45292 | M40: 401768
A41: Exklusion | C41: 10.001.000 | D41: Leistung | E41: =VLOOKUP(C41,IT!C:C,2,FALSE) -> #REF! | F41: 10.003.000 | G41: Leistung | H41: =VLOOKUP(F41,IT!C:C,2,FALSE) -> #REF! | I41: =CONCATENATE("Nicht kumulierbar mit ",G41,": ",F41) -> Nicht kumulierbar mit Leistung: 10.003.000 | J41: =CONCATENATE("Non cumulable avec ",$P$1," : ",F41) -> Non cumulable avec chapitre : 10.003.000 | K41: =CONCATENATE("Non cumulabile col ",$Q$1,": ",F41) -> Non cumulabile col capitolo: 10.003.000 | L41: 45292 | M41: 401768
A42: Exklusion | C42: 10.001.000 | D42: Leistung | E42: =VLOOKUP(C42,IT!C:C,2,FALSE) -> #REF! | F42: 10.004.000 | G42: Leistung | H42: =VLOOKUP(F42,IT!C:C,2,FALSE) -> #REF! | I42: =CONCATENATE("Nicht kumulierbar mit ",G42,": ",F42) -> Nicht kumulierbar mit Leistung: 10.004.000 | J42: =CONCATENATE("Non cumulable avec ",$P$1," : ",F42) -> Non cumulable avec chapitre : 10.004.000 | K42: =CONCATENATE("Non cumulabile col ",$Q$1,": ",F42) -> Non cumulabile col capitolo: 10.004.000 | L42: 45566 | M42: 401768
A43: Exklusion | C43: 10.001.000 | D43: Leistung | E43: =VLOOKUP(C43,IT!C:C,2,FALSE) -> #REF! | F43: 10.020.000 | G43: Leistung | H43: =VLOOKUP(F43,IT!C:C,2,FALSE) -> #REF! | I43: =CONCATENATE("Nicht kumulierbar mit ",G43,": ",F43) -> Nicht kumulierbar mit Leistung: 10.020.000 | J43: =CONCATENATE("Non cumulable avec ",$P$1," : ",F43) -> Non cumulable avec chapitre : 10.020.000 | K43: =CONCATENATE("Non cumulabile col ",$Q$1,": ",F43) -> Non cumulabile col capitolo: 10.020.000 | L43: 45566 | M43: 401768
A44: Exklusion | C44: 10.001.000 | D44: Leistung | E44: =VLOOKUP(C44,IT!C:C,2,FALSE) -> #REF! | F44: 10.021.000 | G44: Leistung | H44: =VLOOKUP(F44,IT!C:C,2,FALSE) -> #REF! | I44: =CONCATENATE("Nicht kumulierbar mit ",G44,": ",F44) -> Nicht kumulierbar mit Leistung: 10.021.000 | J44: =CONCATENATE("Non cumulable avec ",$P$1," : ",F44) -> Non cumulable avec chapitre : 10.021.000 | K44: =CONCATENATE("Non cumulabile col ",$Q$1,": ",F44) -> Non cumulabile col capitolo: 10.021.000 | L44: 45566 | M44: 401768
A45: Exklusion | C45: 10.001.000 | D45: Leistung | E45: =VLOOKUP(C45,IT!C:C,2,FALSE) -> #REF! | F45: 10.030.000 | G45: Leistung | H45: =VLOOKUP(F45,IT!C:C,2,FALSE) -> #REF! | I45: =CONCATENATE("Nicht kumulierbar mit ",G45,": ",F45) -> Nicht kumulierbar mit Leistung: 10.030.000 | J45: =CONCATENATE("Non cumulable avec ",$P$1," : ",F45) -> Non cumulable avec chapitre : 10.030.000 | K45: =CONCATENATE("Non cumulabile col ",$Q$1,": ",F45) -> Non cumulabile col capitolo: 10.030.000 | L45: 45292 | M45: 401768
A46: Exklusion | C46: 10.001.000 | D46: Leistung | E46: =VLOOKUP(C46,IT!C:C,2,FALSE) -> #REF! | F46: 10.031.000 | G46: Leistung | H46: =VLOOKUP(F46,IT!C:C,2,FALSE) -> #REF! | I46: =CONCATENATE("Nicht kumulierbar mit ",G46,": ",F46) -> Nicht kumulierbar mit Leistung: 10.031.000 | J46: =CONCATENATE("Non cumulable avec ",$P$1," : ",F46) -> Non cumulable avec chapitre : 10.031.000 | K46: =CONCATENATE("Non cumulabile col ",$Q$1,": ",F46) -> Non cumulabile col capitolo: 10.031.000 | L46: 45566 | M46: 401768
A47: Exklusion | C47: 10.002.000 | D47: Leistung | E47: =VLOOKUP(C47,IT!C:C,2,FALSE) -> #REF! | F47: 10.140 | G47: Kapitel | H47: =VLOOKUP(F47,IT!B:C,3,FALSE) -> #REF! | I47: =CONCATENATE("Nicht kumulierbar mit ",G47,": ",F47) -> Nicht kumulierbar mit Kapitel: 10.140 | J47: =CONCATENATE("Non cumulable avec ",$P$1," : ",F47) -> Non cumulable avec chapitre : 10.140 | K47: =CONCATENATE("Non cumulabile col ",$Q$1,": ",F47) -> Non cumulabile col capitolo: 10.140 | L47: 45566 | M47: 401768
A48: Exklusion | C48: 10.002.000 | D48: Leistung | E48: =VLOOKUP(C48,IT!C:C,2,FALSE) -> #REF! | F48: 80 | G48: Kapitel | H48: =VLOOKUP(F48,IT!B:C,3,FALSE) -> #REF! | I48: =CONCATENATE("Nicht kumulierbar mit ",G48,": ",F48) -> Nicht kumulierbar mit Kapitel: 80 | J48: =CONCATENATE("Non cumulable avec ",$P$1," : ",F48) -> Non cumulable avec chapitre : 80 | K48: =CONCATENATE("Non cumulabile col ",$Q$1,": ",F48) -> Non cumulabile col capitolo: 80 | L48: 45292 | M48: 401768
A49: Exklusion | C49: 10.002.000 | D49: Leistung | E49: =VLOOKUP(C49,IT!C:C,2,FALSE) -> #REF! | F49: 10.003.000 | G49: Leistung | H49: =VLOOKUP(F49,IT!C:C,2,FALSE) -> #REF! | I49: =CONCATENATE("Nicht kumulierbar mit ",G49,": ",F49) -> Nicht kumulierbar mit Leistung: 10.003.000 | J49: =CONCATENATE("Non cumulable avec ",$P$1," : ",F49) -> Non cumulable avec chapitre : 10.003.000 | K49: =CONCATENATE("Non cumulabile col ",$Q$1,": ",F49) -> Non cumulabile col capitolo: 10.003.000 | L49: 45292 | M49: 401768
A50: Exklusion | C50: 10.002.000 | D50: Leistung | E50: =VLOOKUP(C50,IT!C:C,2,FALSE) -> #REF! | F50: 10.004.000 | G50: Leistung | H50: =VLOOKUP(F50,IT!C:C,2,FALSE) -> #REF! | I50: =CONCATENATE("Nicht kumulierbar mit ",G50,": ",F50) -> Nicht kumulierbar mit Leistung: 10.004.000 | J50: =CONCATENATE("Non cumulable avec ",$P$1," : ",F50) -> Non cumulable avec chapitre : 10.004.000 | K50: =CONCATENATE("Non cumulabile col ",$Q$1,": ",F50) -> Non cumulabile col capitolo: 10.004.000 | L50: 45566 | M50: 401768
A51: Exklusion | C51: 10.002.000 | D51: Leistung | E51: =VLOOKUP(C51,IT!C:C,2,FALSE) -> #REF! | F51: 10.020.000 | G51: Leistung | H51: =VLOOKUP(F51,IT!C:C,2,FALSE) -> #REF! | I51: =CONCATENATE("Nicht kumulierbar mit ",G51,": ",F51) -> Nicht kumulierbar mit Leistung: 10.020.000 | J51: =CONCATENATE("Non cumulable avec ",$P$1," : ",F51) -> Non cumulable avec chapitre : 10.020.000 | K51: =CONCATENATE("Non cumulabile col ",$Q$1,": ",F51) -> Non cumulabile col capitolo: 10.020.000 | L51: 45566 | M51: 401768
A52: Exklusion | C52: 10.002.000 | D52: Leistung | E52: =VLOOKUP(C52,IT!C:C,2,FALSE) -> #REF! | F52: 10.021.000 | G52: Leistung | H52: =VLOOKUP(F52,IT!C:C,2,FALSE) -> #REF! | I52: =CONCATENATE("Nicht kumulierbar mit ",G52,": ",F52) -> Nicht kumulierbar mit Leistung: 10.021.000 | J52: =CONCATENATE("Non cumulable avec ",$P$1," : ",F52) -> Non cumulable avec chapitre : 10.021.000 | K52: =CONCATENATE("Non cumulabile col ",$Q$1,": ",F52) -> Non cumulabile col capitolo: 10.021.000 | L52: 45566 | M52: 401768
A53: Exklusion | C53: 10.002.000 | D53: Leistung | E53: =VLOOKUP(C53,IT!C:C,2,FALSE) -> #REF! | F53: 10.030.000 | G53: Leistung | H53: =VLOOKUP(F53,IT!C:C,2,FALSE) -> #REF! | I53: =CONCATENATE("Nicht kumulierbar mit ",G53,": ",F53) -> Nicht kumulierbar mit Leistung: 10.030.000 | J53: =CONCATENATE("Non cumulable avec ",$P$1," : ",F53) -> Non cumulable avec chapitre : 10.030.000 | K53: =CONCATENATE("Non cumulabile col ",$Q$1,": ",F53) -> Non cumulabile col capitolo: 10.030.000 | L53: 45292 | M53: 401768
A54: Exklusion | C54: 10.002.000 | D54: Leistung | E54: =VLOOKUP(C54,IT!C:C,2,FALSE) -> #REF! | F54: 10.031.000 | G54: Leistung | H54: =VLOOKUP(F54,IT!C:C,2,FALSE) -> #REF! | I54: =CONCATENATE("Nicht kumulierbar mit ",G54,": ",F54) -> Nicht kumulierbar mit Leistung: 10.031.000 | J54: =CONCATENATE("Non cumulable avec ",$P$1," : ",F54) -> Non cumulable avec chapitre : 10.031.000 | K54: =CONCATENATE("Non cumulabile col ",$Q$1,": ",F54) -> Non cumulabile col capitolo: 10.031.000 | L54: 45566 | M54: 401768
A55: Exklusion | C55: 10.003.000 | D55: Leistung | E55: =VLOOKUP(C55,IT!C:C,2,FALSE) -> #REF! | F55: 20 | G55: Kapitel | H55: Basis-Rollstühle | I55: =CONCATENATE("Nicht kumulierbar mit ",G55,": ",F55) -> Nicht kumulierbar mit Kapitel: 20 | J55: =CONCATENATE("Non cumulable avec ",$P$1," : ",F55) -> Non cumulable avec chapitre : 20 | K55: =CONCATENATE("Non cumulabile col ",$Q$1,": ",F55) -> Non cumulabile col capitolo: 20 | L55: 45566 | M55: 401768
A56: Exklusion | C56: 10.003.000 | D56: Leistung | E56: =VLOOKUP(C56,IT!C:C,2,FALSE) -> #REF! | F56: 30 | G56: Kapitel | H56: Adaptiv-Rollstühle | I56: =CONCATENATE("Nicht kumulierbar mit ",G56,": ",F56) -> Nicht kumulierbar mit Kapitel: 30 | J56: =CONCATENATE("Non cumulable avec ",$P$1," : ",F56) -> Non cumulable avec chapitre : 30 | K56: =CONCATENATE("Non cumulabile col ",$Q$1,": ",F56) -> Non cumulabile col capitolo: 30 | L56: 45566 | M56: 401768
A57: Exklusion | C57: 10.003.000 | D57: Leistung | E57: =VLOOKUP(C57,IT!C:C,2,FALSE) -> #REF! | F57: 40 | G57: Kapitel | H57: Kinder-Rollstühle | I57: =CONCATENATE("Nicht kumulierbar mit ",G57,": ",F57) -> Nicht kumulierbar mit Kapitel: 40 | J57: =CONCATENATE("Non cumulable avec ",$P$1," : ",F57) -> Non cumulable avec chapitre : 40 | K57: =CONCATENATE("Non cumulabile col ",$Q$1,": ",F57) -> Non cumulabile col capitolo: 40 | L57: 45566 | M57: 401768
A58: Exklusion | C58: 10.003.000 | D58: Leistung | E58: =VLOOKUP(C58,IT!C:C,2,FALSE) -> #REF! | F58: 50 | G58: Kapitel | H58: Spezial-Rollstühle | I58: =CONCATENATE("Nicht kumulierbar mit ",G58,": ",F58) -> Nicht kumulierbar mit Kapitel: 50 | J58: =CONCATENATE("Non cumulable avec ",$P$1," : ",F58) -> Non cumulable avec chapitre : 50 | K58: =CONCATENATE("Non cumulabile col ",$Q$1,": ",F58) -> Non cumulabile col capitolo: 50 | L58: 45566 | M58: 401768
A59: Exklusion | C59: 10.003.000 | D59: Leistung | E59: =VLOOKUP(C59,IT!C:C,2,FALSE) -> #REF! | F59: 60 | G59: Kapitel | H59: Elektro-Rollstühle | I59: =CONCATENATE("Nicht kumulierbar mit ",G59,": ",F59) -> Nicht kumulierbar mit Kapitel: 60 | J59: =CONCATENATE("Non cumulable avec ",$P$1," : ",F59) -> Non cumulable avec chapitre : 60 | K59: =CONCATENATE("Non cumulabile col ",$Q$1,": ",F59) -> Non cumulabile col capitolo: 60 | L59: 45566 | M59: 401768
A60: Exklusion | C60: 10.003.000 | D60: Leistung | E60: =VLOOKUP(C60,IT!C:C,2,FALSE) -> #REF! | F60: 70 | G60: Kapitel | H60: =VLOOKUP(F60,IT!B:C,3,FALSE) -> #REF! | I60: =CONCATENATE("Nicht kumulierbar mit ",G60,": ",F60) -> Nicht kumulierbar mit Kapitel: 70 | J60: =CONCATENATE("Non cumulable avec ",$P$1," : ",F60) -> Non cumulable avec chapitre : 70 | K60: =CONCATENATE("Non cumulabile col ",$Q$1,": ",F60) -> Non cumulabile col capitolo: 70 | L60: 45292 | M60: 401768
A61: Exklusion | C61: 10.003.000 | D61: Leistung | E61: =VLOOKUP(C61,IT!C:C,2,FALSE) -> #REF! | F61: 80.500 | G61: Kapitel | H61: =VLOOKUP(F61,IT!B:C,3,FALSE) -> #REF! | I61: =CONCATENATE("Nicht kumulierbar mit ",G61,": ",F61) -> Nicht kumulierbar mit Kapitel: 80.500 | J61: =CONCATENATE("Non cumulable avec ",$P$1," : ",F61) -> Non cumulable avec chapitre : 80.500 | K61: =CONCATENATE("Non cumulabile col ",$Q$1,": ",F61) -> Non cumulabile col capitolo: 80.500 | L61: 45292 | M61: 401768
